BEGIN:VCALENDAR
VERSION:2.0
PRODID:-//eventon.com NONSGML v1.0//EN
CALSCALE:GREGORIAN
METHOD:PUBLISH
BEGIN:VEVENT
UID:69ea263430fc1
DTSTAMP:20260423T140124Z
DTSTART:20260531T003000Z
DTEND:20260531T003000Z
LOCATION:
SUMMARY:GRECIA y la Sabiduría
DESCRIPTION:GRECIA y la Sabiduría\nhttps://andanafoto.com/events/evento-gr
 ecia-y-la-sabiduria/
URL:https://andanafoto.com/events/evento-grecia-y-la-sabiduria/
END:VEVENT
END:VCALENDAR