BEGIN:VCALENDAR
VERSION:2.0
PRODID:-//eventon.com NONSGML v1.0//EN
CALSCALE:GREGORIAN
METHOD:PUBLISH
BEGIN:VEVENT
UID:69ea26633c871
DTSTAMP:20260423T140211Z
DTSTART:20260531T003000Z
DTEND:20260531T003000Z
LOCATION:
SUMMARY:JAPÓN y los cinco elementos
DESCRIPTION:JAPÓN y los cinco elementos\nhttps://andanafoto.com/events/eve
 nto-japon-y-los-cinco-elementos/
URL:https://andanafoto.com/events/evento-japon-y-los-cinco-elementos/
END:VEVENT
END:VCALENDAR