BEGIN:VCALENDAR
VERSION:2.0
PRODID:-//eventon.com NONSGML v1.0//EN
CALSCALE:GREGORIAN
METHOD:PUBLISH
BEGIN:VEVENT
UID:69ea03c0b309a
DTSTAMP:20260423T113424Z
DTSTART:20260622T152100Z
DTEND:20260622T152100Z
LOCATION:
SUMMARY:PECADOS
DESCRIPTION:PECADOS\nhttps://andanafoto.com/events/agenda-pecados/
URL:https://andanafoto.com/events/agenda-pecados/
END:VEVENT
END:VCALENDAR