BEGIN:VCALENDAR
VERSION:2.0
PRODID:-//eventon.com NONSGML v1.0//EN
CALSCALE:GREGORIAN
METHOD:PUBLISH
BEGIN:VEVENT
UID:69ea296c37267
DTSTAMP:20260423T141508Z
DTSTART:20260531T123000Z
DTEND:20260531T123000Z
LOCATION:
SUMMARY:TALLER DE AUTORRETRATO
DESCRIPTION:TALLER DE AUTORRETRATO\nhttps://andanafoto.com/events/evento-ta
 ller-de-autorretrato/
URL:https://andanafoto.com/events/evento-taller-de-autorretrato/
END:VEVENT
END:VCALENDAR