BEGIN:VCALENDAR
VERSION:2.0
PRODID:-//eventon.com NONSGML v1.0//EN
CALSCALE:GREGORIAN
METHOD:PUBLISH
BEGIN:VEVENT
UID:69e755fcc88e1
DTSTAMP:20260421T104828Z
DTSTART:20260608T064100Z
DTEND:20260608T064100Z
LOCATION:online
SUMMARY:ESPECIALIZACIÓN EN AUTOCONOCIMIENTO A TRAVÉS DE LA FOTOGRAFÍA
DESCRIPTION:ESPECIALIZACIÓN EN AUTOCONOCIMIENTO A TRAVÉS DE LA FOTOGRAFÍ
 A\nhttps://andanafoto.com/events/agenda-curso-online-de-especializacion-en-
 autoconocimiento-a-traves-de-la-fotografia/
URL:https://andanafoto.com/events/agenda-curso-online-de-especializacion-en-autoconocimiento-a-traves-de-la-fotografia/
END:VEVENT
END:VCALENDAR