BEGIN:VCALENDAR
VERSION:2.0
PRODID:-//eventon.com NONSGML v1.0//EN
CALSCALE:GREGORIAN
METHOD:PUBLISH
BEGIN:VEVENT
UID:69ea2c0f4d161
DTSTAMP:20260423T142623Z
DTSTART:20260531
DTEND:20260601
LOCATION:
SUMMARY:FOTOGRAFÍA CREATIVA Y EXPERIMENTAL
DESCRIPTION:FOTOGRAFÍA CREATIVA Y EXPERIMENTAL\nhttps://andanafoto.com/eve
 nts/agenda-fotografia-creativa-y-experimental/
URL:https://andanafoto.com/events/agenda-fotografia-creativa-y-experimental/
END:VEVENT
END:VCALENDAR