BEGIN:VCALENDAR
VERSION:2.0
PRODID:-//eventon.com NONSGML v1.0//EN
CALSCALE:GREGORIAN
METHOD:PUBLISH
BEGIN:VEVENT
UID:69e755fd061b3
DTSTAMP:20260421T104829Z
DTSTART:20260608T080000Z
DTEND:20260608T080000Z
LOCATION:
SUMMARY:Especialización para impartir talleres de fotografía infantil y juvenil
DESCRIPTION:Especialización para impartir talleres de fotografía infantil
  y juvenil\nhttps://andanafoto.com/events/agenda-curso-de-especializacion-p
 ara-impartir-talleres-de-fotografia-infantil-y-juvenil/
URL:https://andanafoto.com/events/agenda-curso-de-especializacion-para-impartir-talleres-de-fotografia-infantil-y-juvenil/
END:VEVENT
END:VCALENDAR